Package: smoothclust Version: 1.0.0 Command: /Library/Frameworks/R.framework/Resources/bin/R CMD INSTALL smoothclust StartedAt: 2024-10-16 16:15:56 -0400 (Wed, 16 Oct 2024) EndedAt: 2024-10-16 16:16:28 -0400 (Wed, 16 Oct 2024) EllapsedTime: 31.8 seconds RetCode: 0 Status: OK