Package: smartid Version: 1.0.2 Command: E:\biocbuild\bbs-3.19-bioc\R\bin\R.exe CMD INSTALL smartid StartedAt: 2024-10-16 16:56:32 -0400 (Wed, 16 Oct 2024) EndedAt: 2024-10-16 16:57:09 -0400 (Wed, 16 Oct 2024) EllapsedTime: 37.1 seconds RetCode: 0 Status: OK