Package: smartid Version: 1.0.2 Command: E:\biocbuild\bbs-3.19-bioc\R\bin\R.exe CMD check --no-multiarch --install=check:smartid.install-out.txt --library=E:\biocbuild\bbs-3.19-bioc\R\library --no-vignettes --timings smartid_1.0.2.tar.gz StartedAt: 2024-10-17 05:55:21 -0400 (Thu, 17 Oct 2024) EndedAt: 2024-10-17 05:59:00 -0400 (Thu, 17 Oct 2024) EllapsedTime: 218.7 seconds RetCode: 0 Status: OK CheckDir: smartid.Rcheck Warnings: 0