Package: smartid Version: 1.0.2 Command: /home/biocbuild/bbs-3.19-bioc/R/bin/R CMD check --install=check:smartid.install-out.txt --library=/home/biocbuild/bbs-3.19-bioc/R/site-library --timings smartid_1.0.2.tar.gz StartedAt: 2024-10-17 05:16:37 -0400 (Thu, 17 Oct 2024) EndedAt: 2024-10-17 05:20:19 -0400 (Thu, 17 Oct 2024) EllapsedTime: 221.4 seconds RetCode: 0 Status: OK CheckDir: smartid.Rcheck Warnings: 0