Package: smartid Version: 1.0.2 Command: /Library/Frameworks/R.framework/Resources/bin/R CMD check --install=check:smartid.install-out.txt --library=/Library/Frameworks/R.framework/Resources/library --no-vignettes --timings smartid_1.0.2.tar.gz StartedAt: 2024-10-18 12:53:11 -0400 (Fri, 18 Oct 2024) EndedAt: 2024-10-18 12:57:18 -0400 (Fri, 18 Oct 2024) EllapsedTime: 246.3 seconds RetCode: 0 Status: OK CheckDir: smartid.Rcheck Warnings: 0