Package: slingshot Version: 2.12.0 Command: /Library/Frameworks/R.framework/Resources/bin/R CMD check --install=check:slingshot.install-out.txt --library=/Library/Frameworks/R.framework/Resources/library --no-vignettes --timings slingshot_2.12.0.tar.gz StartedAt: 2024-06-09 23:09:21 -0400 (Sun, 09 Jun 2024) EndedAt: 2024-06-09 23:13:29 -0400 (Sun, 09 Jun 2024) EllapsedTime: 248.5 seconds RetCode: 0 Status: OK CheckDir: slingshot.Rcheck Warnings: 0