Package: slalom Version: 1.26.0 Command: rm -rf slalom.buildbin-libdir && mkdir slalom.buildbin-libdir && E:\biocbuild\bbs-3.19-bioc\R\bin\R.exe CMD INSTALL --build --library=slalom.buildbin-libdir slalom_1.26.0.tar.gz StartedAt: 2024-10-17 08:40:13 -0400 (Thu, 17 Oct 2024) EndedAt: 2024-10-17 08:41:26 -0400 (Thu, 17 Oct 2024) EllapsedTime: 73.0 seconds RetCode: 0 Status: OK PackageFile: slalom_1.26.0.zip PackageFileSize: 18.43 MiB