Package: slalom Version: 1.26.0 Command: /Library/Frameworks/R.framework/Resources/bin/R CMD build --keep-empty-dirs --no-resave-data slalom StartedAt: 2024-10-16 23:28:41 -0400 (Wed, 16 Oct 2024) EndedAt: 2024-10-16 23:29:17 -0400 (Wed, 16 Oct 2024) EllapsedTime: 36.0 seconds RetCode: 1 Status: ERROR PackageFile: None PackageFileSize: NA