Package: slalom Version: 1.26.0 Command: /Library/Frameworks/R.framework/Resources/bin/R CMD build --keep-empty-dirs --no-resave-data slalom StartedAt: 2024-06-09 18:14:45 -0400 (Sun, 09 Jun 2024) EndedAt: 2024-06-09 18:14:59 -0400 (Sun, 09 Jun 2024) EllapsedTime: 14.4 seconds RetCode: 1 Status: ERROR PackageFile: None PackageFileSize: NA