Package: slalom Version: 1.26.0 Command: /Library/Frameworks/R.framework/Resources/bin/R CMD INSTALL slalom StartedAt: 2024-10-16 18:22:40 -0400 (Wed, 16 Oct 2024) EndedAt: 2024-10-16 18:22:49 -0400 (Wed, 16 Oct 2024) EllapsedTime: 9.5 seconds RetCode: 1 Status: ERROR