Package: slalom Version: 1.26.0 Command: /Library/Frameworks/R.framework/Resources/bin/R CMD build --keep-empty-dirs --no-resave-data slalom StartedAt: 2024-10-17 09:33:15 -0400 (Thu, 17 Oct 2024) EndedAt: 2024-10-17 09:33:27 -0400 (Thu, 17 Oct 2024) EllapsedTime: 11.4 seconds RetCode: 1 Status: ERROR PackageFile: None PackageFileSize: NA