Package: skewr Version: 1.36.0 Command: chmod a+r skewr -R && E:\biocbuild\bbs-3.19-bioc\R\bin\R.exe CMD build --keep-empty-dirs --no-resave-data skewr StartedAt: 2024-10-16 22:02:24 -0400 (Wed, 16 Oct 2024) EndedAt: 2024-10-16 22:06:04 -0400 (Wed, 16 Oct 2024) EllapsedTime: 219.8 seconds RetCode: 0 Status: OK PackageFile: skewr_1.36.0.tar.gz PackageFileSize: 399.5 KiB