Package: skewr Version: 1.36.0 Command: /home/biocbuild/bbs-3.19-bioc/R/bin/R CMD build --keep-empty-dirs --no-resave-data skewr StartedAt: 2024-10-16 20:54:11 -0400 (Wed, 16 Oct 2024) EndedAt: 2024-10-16 20:56:14 -0400 (Wed, 16 Oct 2024) EllapsedTime: 123.3 seconds RetCode: 0 Status: OK PackageFile: skewr_1.36.0.tar.gz PackageFileSize: 856.6 KiB