Package: skewr Version: 1.36.0 Command: rm -rf skewr.buildbin-libdir && mkdir skewr.buildbin-libdir && /Users/biocbuild/BBS/utils/build-universal.sh skewr_1.36.0.tar.gz /Library/Frameworks/R.framework/Resources/bin/R skewr.buildbin-libdir StartedAt: 2024-10-17 17:14:18 -0400 (Thu, 17 Oct 2024) EndedAt: 2024-10-17 17:16:18 -0400 (Thu, 17 Oct 2024) EllapsedTime: 119.9 seconds RetCode: 0 Status: OK PackageFile: skewr_1.36.0.tgz PackageFileSize: 759.9 KiB