Package: skewr Version: 1.36.0 Command: /Library/Frameworks/R.framework/Resources/bin/R CMD check --install=check:skewr.install-out.txt --library=/Library/Frameworks/R.framework/Resources/library --no-vignettes --timings skewr_1.36.0.tar.gz StartedAt: 2024-06-11 06:09:29 -0400 (Tue, 11 Jun 2024) EndedAt: 2024-06-11 06:19:32 -0400 (Tue, 11 Jun 2024) EllapsedTime: 603.2 seconds RetCode: 0 Status: OK CheckDir: skewr.Rcheck Warnings: 0