Package: sketchR Version: 1.0.0 Command: /Library/Frameworks/R.framework/Resources/bin/R CMD check --install=check:sketchR.install-out.txt --library=/Library/Frameworks/R.framework/Resources/library --no-vignettes --timings sketchR_1.0.0.tar.gz StartedAt: 2024-10-17 13:22:14 -0400 (Thu, 17 Oct 2024) EndedAt: 2024-10-17 13:28:21 -0400 (Thu, 17 Oct 2024) EllapsedTime: 367.7 seconds RetCode: 0 Status: OK CheckDir: sketchR.Rcheck Warnings: 0