Package: sizepower Version: 1.74.0 Command: chmod a+r sizepower -R && E:\biocbuild\bbs-3.19-bioc\R\bin\R.exe CMD build --keep-empty-dirs --no-resave-data sizepower StartedAt: 2024-10-16 22:02:10 -0400 (Wed, 16 Oct 2024) EndedAt: 2024-10-16 22:02:23 -0400 (Wed, 16 Oct 2024) EllapsedTime: 12.3 seconds RetCode: 0 Status: OK PackageFile: sizepower_1.74.0.tar.gz PackageFileSize: 175.8 KiB