Package: sizepower Version: 1.74.0 Command: rm -rf sizepower.buildbin-libdir && mkdir sizepower.buildbin-libdir && F:\biocbuild\bbs-3.19-bioc\R\bin\R.exe CMD INSTALL --build --library=sizepower.buildbin-libdir sizepower_1.74.0.tar.gz StartedAt: 2024-06-27 08:56:47 -0400 (Thu, 27 Jun 2024) EndedAt: 2024-06-27 08:56:50 -0400 (Thu, 27 Jun 2024) EllapsedTime: 3.2 seconds RetCode: 0 Status: OK PackageFile: sizepower_1.74.0.zip PackageFileSize: 196.9 KiB