Package: sizepower Version: 1.74.0 Command: /Library/Frameworks/R.framework/Resources/bin/R CMD check --install=check:sizepower.install-out.txt --library=/Library/Frameworks/R.framework/Resources/library --no-vignettes --timings sizepower_1.74.0.tar.gz StartedAt: 2024-10-17 13:21:37 -0400 (Thu, 17 Oct 2024) EndedAt: 2024-10-17 13:22:14 -0400 (Thu, 17 Oct 2024) EllapsedTime: 36.3 seconds RetCode: 0 Status: OK CheckDir: sizepower.Rcheck Warnings: 0