Package: sizepower Version: 1.74.0 Command: rm -rf sizepower.buildbin-libdir && mkdir sizepower.buildbin-libdir && /Users/biocbuild/BBS/utils/build-universal.sh sizepower_1.74.0.tar.gz /Library/Frameworks/R.framework/Resources/bin/R sizepower.buildbin-libdir StartedAt: 2024-10-17 17:14:13 -0400 (Thu, 17 Oct 2024) EndedAt: 2024-10-17 17:14:18 -0400 (Thu, 17 Oct 2024) EllapsedTime: 5.4 seconds RetCode: 0 Status: OK PackageFile: sizepower_1.74.0.tgz PackageFileSize: 314.2 KiB