Package: sizepower Version: 1.74.0 Command: /home/biocbuild/R/R-beta-2024-04-15_r86425/bin/R CMD build --keep-empty-dirs --no-resave-data sizepower StartedAt: 2024-05-09 03:41:51 -0000 (Thu, 09 May 2024) EndedAt: 2024-05-09 03:41:55 -0000 (Thu, 09 May 2024) EllapsedTime: 4.0 seconds RetCode: 0 Status: OK PackageFile: sizepower_1.74.0.tar.gz PackageFileSize: 285.5 KiB