Package: sizepower Version: 1.74.0 Command: /Library/Frameworks/R.framework/Resources/bin/R CMD build --keep-empty-dirs --no-resave-data sizepower StartedAt: 2024-06-10 05:02:59 -0400 (Mon, 10 Jun 2024) EndedAt: 2024-06-10 05:03:16 -0400 (Mon, 10 Jun 2024) EllapsedTime: 16.6 seconds RetCode: 0 Status: OK PackageFile: sizepower_1.74.0.tar.gz PackageFileSize: 295.4 KiB