Package: sizepower Version: 1.74.0 Command: /Library/Frameworks/R.framework/Resources/bin/R CMD INSTALL sizepower StartedAt: 2024-10-16 15:34:50 -0400 (Wed, 16 Oct 2024) EndedAt: 2024-10-16 15:34:53 -0400 (Wed, 16 Oct 2024) EllapsedTime: 2.4 seconds RetCode: 0 Status: OK