Package: sizepower Version: 1.74.0 Command: rm -rf sizepower.buildbin-libdir && mkdir sizepower.buildbin-libdir && /Users/biocbuild/BBS/utils/build-universal.sh sizepower_1.74.0.tar.gz /Library/Frameworks/R.framework/Resources/bin/R sizepower.buildbin-libdir StartedAt: 2024-10-15 20:22:37 -0400 (Tue, 15 Oct 2024) EndedAt: 2024-10-15 20:22:42 -0400 (Tue, 15 Oct 2024) EllapsedTime: 4.5 seconds RetCode: 0 Status: OK PackageFile: sizepower_1.74.0.tgz PackageFileSize: 314 KiB