Package: sitePath Version: 1.20.0 Command: rm -rf sitePath.buildbin-libdir && mkdir sitePath.buildbin-libdir && /Users/biocbuild/BBS/utils/build-universal.sh sitePath_1.20.0.tar.gz /Library/Frameworks/R.framework/Resources/bin/R sitePath.buildbin-libdir StartedAt: 2024-06-11 13:18:38 -0400 (Tue, 11 Jun 2024) EndedAt: 2024-06-11 13:19:50 -0400 (Tue, 11 Jun 2024) EllapsedTime: 72.4 seconds RetCode: 0 Status: OK PackageFile: sitePath_1.20.0.tgz PackageFileSize: 1.485 MiB