Package: sitadela Version: 1.12.0 Command: rm -rf sitadela.buildbin-libdir && mkdir sitadela.buildbin-libdir && F:\biocbuild\bbs-3.19-bioc\R\bin\R.exe CMD INSTALL --build --library=sitadela.buildbin-libdir sitadela_1.12.0.tar.gz StartedAt: 2024-06-27 08:56:42 -0400 (Thu, 27 Jun 2024) EndedAt: 2024-06-27 08:57:34 -0400 (Thu, 27 Jun 2024) EllapsedTime: 51.7 seconds RetCode: 0 Status: OK PackageFile: sitadela_1.12.0.zip PackageFileSize: 719.7 KiB