Package: sitadela Version: 1.12.0 Command: /home/biocbuild/R/R-beta-2024-04-15_r86425/bin/R CMD check --install=check:sitadela.install-out.txt --library=/home/biocbuild/R/R-beta-2024-04-15_r86425/site-library --no-vignettes --timings sitadela_1.12.0.tar.gz StartedAt: 2024-05-09 12:03:00 -0000 (Thu, 09 May 2024) EndedAt: 2024-05-09 12:12:18 -0000 (Thu, 09 May 2024) EllapsedTime: 558.0 seconds RetCode: 0 Status: OK CheckDir: sitadela.Rcheck Warnings: 0