Package: sitadela Version: 1.12.0 Command: /home/biocbuild/R/R-beta-2024-04-15_r86425/bin/R CMD build --keep-empty-dirs --no-resave-data sitadela StartedAt: 2024-05-09 03:41:34 -0000 (Thu, 09 May 2024) EndedAt: 2024-05-09 03:45:15 -0000 (Thu, 09 May 2024) EllapsedTime: 221.3 seconds RetCode: 0 Status: OK PackageFile: sitadela_1.12.0.tar.gz PackageFileSize: 550.5 KiB