Package: sitadela Version: 1.12.0 Command: rm -rf sitadela.buildbin-libdir && mkdir sitadela.buildbin-libdir && /Users/biocbuild/BBS/utils/build-universal.sh sitadela_1.12.0.tar.gz /Library/Frameworks/R.framework/Resources/bin/R sitadela.buildbin-libdir StartedAt: 2024-10-15 20:22:25 -0400 (Tue, 15 Oct 2024) EndedAt: 2024-10-15 20:23:22 -0400 (Tue, 15 Oct 2024) EllapsedTime: 56.7 seconds RetCode: 0 Status: OK PackageFile: sitadela_1.12.0.tgz PackageFileSize: 714.5 KiB