Package: singscore Version: 1.24.0 Command: rm -rf singscore.buildbin-libdir && mkdir singscore.buildbin-libdir && F:\biocbuild\bbs-3.19-bioc\R\bin\R.exe CMD INSTALL --build --library=singscore.buildbin-libdir singscore_1.24.0.tar.gz StartedAt: 2024-06-27 08:56:38 -0400 (Thu, 27 Jun 2024) EndedAt: 2024-06-27 08:57:21 -0400 (Thu, 27 Jun 2024) EllapsedTime: 42.9 seconds RetCode: 0 Status: OK PackageFile: singscore_1.24.0.zip PackageFileSize: 2.879 MiB