Package: singscore Version: 1.24.0 Command: rm -rf singscore.buildbin-libdir && mkdir singscore.buildbin-libdir && /Users/biocbuild/BBS/utils/build-universal.sh singscore_1.24.0.tar.gz /Library/Frameworks/R.framework/Resources/bin/R singscore.buildbin-libdir StartedAt: 2024-10-15 20:21:55 -0400 (Tue, 15 Oct 2024) EndedAt: 2024-10-15 20:22:43 -0400 (Tue, 15 Oct 2024) EllapsedTime: 47.5 seconds RetCode: 0 Status: OK PackageFile: singscore_1.24.0.tgz PackageFileSize: 3.444 MiB