Package: singleCellTK Version: 2.14.0 Command: E:\biocbuild\bbs-3.19-bioc\R\bin\R.exe CMD INSTALL singleCellTK StartedAt: 2024-10-16 17:15:14 -0400 (Wed, 16 Oct 2024) EndedAt: 2024-10-16 17:18:22 -0400 (Wed, 16 Oct 2024) EllapsedTime: 188.4 seconds RetCode: 0 Status: OK