Package: singleCellTK Version: 2.14.0 Command: set _R_CHECK_FORCE_SUGGESTS_=0&& E:\biocbuild\bbs-3.19-bioc\R\bin\R.exe CMD check --no-multiarch --install=check:singleCellTK.install-out.txt --library=E:\biocbuild\bbs-3.19-bioc\R\library --no-vignettes --timings singleCellTK_2.14.0.tar.gz StartedAt: 2024-10-17 05:51:45 -0400 (Thu, 17 Oct 2024) EndedAt: 2024-10-17 06:11:09 -0400 (Thu, 17 Oct 2024) EllapsedTime: 1164.1 seconds RetCode: 0 Status: OK CheckDir: singleCellTK.Rcheck Warnings: 0