Package: singleCellTK Version: 2.14.0 Command: /Library/Frameworks/R.framework/Resources/bin/R CMD check --install=check:singleCellTK.install-out.txt --library=/Library/Frameworks/R.framework/Resources/library --no-vignettes --timings singleCellTK_2.14.0.tar.gz StartedAt: 2024-10-17 13:18:59 -0400 (Thu, 17 Oct 2024) EndedAt: 2024-10-17 13:51:26 -0400 (Thu, 17 Oct 2024) EllapsedTime: 1947.1 seconds RetCode: 0 Status: OK CheckDir: singleCellTK.Rcheck Warnings: 0