Package: singleCellTK Version: 2.14.0 Command: rm -rf singleCellTK.buildbin-libdir && mkdir singleCellTK.buildbin-libdir && /Users/biocbuild/BBS/utils/build-universal.sh singleCellTK_2.14.0.tar.gz /Library/Frameworks/R.framework/Resources/bin/R singleCellTK.buildbin-libdir StartedAt: 2024-10-17 17:13:37 -0400 (Thu, 17 Oct 2024) EndedAt: 2024-10-17 17:15:30 -0400 (Thu, 17 Oct 2024) EllapsedTime: 112.7 seconds RetCode: 0 Status: OK PackageFile: singleCellTK_2.14.0.tgz PackageFileSize: 4.553 MiB