Package: singleCellTK Version: 2.14.0 Command: /Library/Frameworks/R.framework/Resources/bin/R CMD build --keep-empty-dirs --no-resave-data singleCellTK StartedAt: 2024-06-10 04:59:48 -0400 (Mon, 10 Jun 2024) EndedAt: 2024-06-10 05:01:37 -0400 (Mon, 10 Jun 2024) EllapsedTime: 109.1 seconds RetCode: 0 Status: OK PackageFile: singleCellTK_2.14.0.tar.gz PackageFileSize: 3.234 MiB