Package: singleCellTK Version: 2.14.0 Command: /Library/Frameworks/R.framework/Resources/bin/R CMD INSTALL singleCellTK StartedAt: 2024-10-16 18:36:47 -0400 (Wed, 16 Oct 2024) EndedAt: 2024-10-16 18:37:35 -0400 (Wed, 16 Oct 2024) EllapsedTime: 47.3 seconds RetCode: 0 Status: OK