Package: single Version: 1.8.0 Command: E:\biocbuild\bbs-3.19-bioc\R\bin\R.exe CMD INSTALL single StartedAt: 2024-10-16 16:22:56 -0400 (Wed, 16 Oct 2024) EndedAt: 2024-10-16 16:23:27 -0400 (Wed, 16 Oct 2024) EllapsedTime: 31.1 seconds RetCode: 0 Status: OK