Package: single Version: 1.8.0 Command: rm -rf single.buildbin-libdir && mkdir single.buildbin-libdir && E:\biocbuild\bbs-3.19-bioc\R\bin\R.exe CMD INSTALL --build --library=single.buildbin-libdir single_1.8.0.tar.gz StartedAt: 2024-10-17 08:39:43 -0400 (Thu, 17 Oct 2024) EndedAt: 2024-10-17 08:40:16 -0400 (Thu, 17 Oct 2024) EllapsedTime: 32.7 seconds RetCode: 0 Status: OK PackageFile: single_1.8.0.zip PackageFileSize: 1.41 MiB