Package: single Version: 1.8.0 Command: /Library/Frameworks/R.framework/Resources/bin/R CMD check --install=check:single.install-out.txt --library=/Library/Frameworks/R.framework/Resources/library --no-vignettes --timings single_1.8.0.tar.gz StartedAt: 2024-10-17 13:17:42 -0400 (Thu, 17 Oct 2024) EndedAt: 2024-10-17 13:25:16 -0400 (Thu, 17 Oct 2024) EllapsedTime: 453.6 seconds RetCode: 0 Status: OK CheckDir: single.Rcheck Warnings: 0