Package: single Version: 1.8.0 Command: /Library/Frameworks/R.framework/Resources/bin/R CMD check --install=check:single.install-out.txt --library=/Library/Frameworks/R.framework/Resources/library --no-vignettes --timings single_1.8.0.tar.gz StartedAt: 2024-06-09 23:07:10 -0400 (Sun, 09 Jun 2024) EndedAt: 2024-06-09 23:10:48 -0400 (Sun, 09 Jun 2024) EllapsedTime: 217.4 seconds RetCode: 0 Status: OK CheckDir: single.Rcheck Warnings: 0