Package: sincell Version: 1.36.0 Command: /home/biocbuild/bbs-3.19-bioc/R/bin/R CMD build --keep-empty-dirs --no-resave-data sincell StartedAt: 2024-10-16 20:52:07 -0400 (Wed, 16 Oct 2024) EndedAt: 2024-10-16 20:55:04 -0400 (Wed, 16 Oct 2024) EllapsedTime: 177.4 seconds RetCode: 0 Status: OK PackageFile: sincell_1.36.0.tar.gz PackageFileSize: 1.135 MiB