Package: simplifyEnrichment Version: 1.14.1 Command: E:\biocbuild\bbs-3.19-bioc\R\bin\R.exe CMD INSTALL simplifyEnrichment StartedAt: 2024-10-16 16:51:25 -0400 (Wed, 16 Oct 2024) EndedAt: 2024-10-16 16:52:42 -0400 (Wed, 16 Oct 2024) EllapsedTime: 77.5 seconds RetCode: 0 Status: OK