Package: simplifyEnrichment Version: 1.14.1 Command: chmod a+r simplifyEnrichment -R && E:\biocbuild\bbs-3.19-bioc\R\bin\R.exe CMD build --keep-empty-dirs --no-resave-data simplifyEnrichment StartedAt: 2024-10-16 21:59:12 -0400 (Wed, 16 Oct 2024) EndedAt: 2024-10-16 22:14:02 -0400 (Wed, 16 Oct 2024) EllapsedTime: 889.7 seconds RetCode: 0 Status: OK PackageFile: simplifyEnrichment_1.14.1.tar.gz PackageFileSize: 6.376 MiB