Package: simplifyEnrichment Version: 1.14.1 Command: /home/biocbuild/bbs-3.19-bioc/R/bin/R CMD build --keep-empty-dirs --no-resave-data simplifyEnrichment StartedAt: 2024-10-16 20:51:59 -0400 (Wed, 16 Oct 2024) EndedAt: 2024-10-16 21:02:54 -0400 (Wed, 16 Oct 2024) EllapsedTime: 655.5 seconds RetCode: 0 Status: OK PackageFile: simplifyEnrichment_1.14.1.tar.gz PackageFileSize: 6.325 MiB