Package: simplifyEnrichment Version: 1.14.1 Command: /Library/Frameworks/R.framework/Resources/bin/R CMD build --keep-empty-dirs --no-resave-data simplifyEnrichment StartedAt: 2024-10-16 23:23:29 -0400 (Wed, 16 Oct 2024) EndedAt: 2024-10-16 23:51:33 -0400 (Wed, 16 Oct 2024) EllapsedTime: 1683.6 seconds RetCode: 0 Status: OK PackageFile: simplifyEnrichment_1.14.1.tar.gz PackageFileSize: 7.245 MiB