Package: simplifyEnrichment Version: 1.14.1 Command: rm -rf simplifyEnrichment.buildbin-libdir && mkdir simplifyEnrichment.buildbin-libdir && /Users/biocbuild/BBS/utils/build-universal.sh simplifyEnrichment_1.14.1.tar.gz /Library/Frameworks/R.framework/Resources/bin/R simplifyEnrichment.buildbin-libdir StartedAt: 2024-10-17 17:13:20 -0400 (Thu, 17 Oct 2024) EndedAt: 2024-10-17 17:14:19 -0400 (Thu, 17 Oct 2024) EllapsedTime: 59.5 seconds RetCode: 0 Status: OK PackageFile: simplifyEnrichment_1.14.1.tgz PackageFileSize: 7.791 MiB