Package: simplifyEnrichment Version: 1.14.0 Command: /home/biocbuild/R/R-beta-2024-04-15_r86425/bin/R CMD build --keep-empty-dirs --no-resave-data simplifyEnrichment StartedAt: 2024-05-09 03:39:00 -0000 (Thu, 09 May 2024) EndedAt: 2024-05-09 03:56:09 -0000 (Thu, 09 May 2024) EllapsedTime: 1029.4 seconds RetCode: 0 Status: OK PackageFile: simplifyEnrichment_1.14.0.tar.gz PackageFileSize: 6.326 MiB