Package: simplifyEnrichment Version: 1.14.0 Command: /Library/Frameworks/R.framework/Resources/bin/R CMD build --keep-empty-dirs --no-resave-data simplifyEnrichment StartedAt: 2024-06-10 04:57:10 -0400 (Mon, 10 Jun 2024) EndedAt: 2024-06-10 05:18:02 -0400 (Mon, 10 Jun 2024) EllapsedTime: 1251.9 seconds RetCode: 0 Status: OK PackageFile: simplifyEnrichment_1.14.0.tar.gz PackageFileSize: 3.138 MiB