Package: simpleSeg Version: 1.6.1 Command: E:\biocbuild\bbs-3.19-bioc\R\bin\R.exe CMD check --no-multiarch --install=check:simpleSeg.install-out.txt --library=E:\biocbuild\bbs-3.19-bioc\R\library --no-vignettes --timings simpleSeg_1.6.1.tar.gz StartedAt: 2024-10-17 05:49:47 -0400 (Thu, 17 Oct 2024) EndedAt: 2024-10-17 05:57:50 -0400 (Thu, 17 Oct 2024) EllapsedTime: 482.6 seconds RetCode: 0 Status: OK CheckDir: simpleSeg.Rcheck Warnings: 0